BEGIN:VCALENDAR
VERSION:2.0
PRODID:-//Windsor Aquarium Society - ECPv6.15.20//NONSGML v1.0//EN
CALSCALE:GREGORIAN
METHOD:PUBLISH
X-WR-CALNAME:Windsor Aquarium Society
X-ORIGINAL-URL:https://windsoraquariumsociety.ca
X-WR-CALDESC:Events for Windsor Aquarium Society
REFRESH-INTERVAL;VALUE=DURATION:PT1H
X-Robots-Tag:noindex
X-PUBLISHED-TTL:PT1H
BEGIN:VTIMEZONE
TZID:America/Detroit
BEGIN:DAYLIGHT
TZOFFSETFROM:-0500
TZOFFSETTO:-0400
TZNAME:EDT
DTSTART:20250309T070000
END:DAYLIGHT
BEGIN:STANDARD
TZOFFSETFROM:-0400
TZOFFSETTO:-0500
TZNAME:EST
DTSTART:20251102T060000
END:STANDARD
BEGIN:DAYLIGHT
TZOFFSETFROM:-0500
TZOFFSETTO:-0400
TZNAME:EDT
DTSTART:20260308T070000
END:DAYLIGHT
BEGIN:STANDARD
TZOFFSETFROM:-0400
TZOFFSETTO:-0500
TZNAME:EST
DTSTART:20261101T060000
END:STANDARD
BEGIN:DAYLIGHT
TZOFFSETFROM:-0500
TZOFFSETTO:-0400
TZNAME:EDT
DTSTART:20270314T070000
END:DAYLIGHT
BEGIN:STANDARD
TZOFFSETFROM:-0400
TZOFFSETTO:-0500
TZNAME:EST
DTSTART:20271107T060000
END:STANDARD
END:VTIMEZONE
BEGIN:VEVENT
DTSTART;TZID=America/Detroit:20261108T103000
DTEND;TZID=America/Detroit:20261108T123000
DTSTAMP:20260421T041945
CREATED:20250118T170301Z
LAST-MODIFIED:20260301T114821Z
UID:407-1794133800-1794141000@windsoraquariumsociety.ca
SUMMARY:Windsor Aquarium Society Meeting
DESCRIPTION:This month’s speaker will be Frank Aquirre \nBowl Show: Anabatoids (Fish that require atmospheric air i.e. Gourami and Bettas) and Plants
URL:https://windsoraquariumsociety.ca/event/windsor-aquarium-society-meeting-2/
ATTACH;FMTTYPE=image/png:https://windsoraquariumsociety.ca/wp-content/uploads/2024/08/logo.png
END:VEVENT
BEGIN:VEVENT
DTSTART;TZID=America/Detroit:20261114T090000
DTEND;TZID=America/Detroit:20261114T183000
DTSTAMP:20260421T041945
CREATED:20260222T160956Z
LAST-MODIFIED:20260222T160956Z
UID:637-1794646800-1794681000@windsoraquariumsociety.ca
SUMMARY:Motor City Aquarium Society Fall Auction
DESCRIPTION:
URL:https://windsoraquariumsociety.ca/event/motor-city-aquarium-society-fall-auction/
ATTACH;FMTTYPE=image/jpeg:https://windsoraquariumsociety.ca/wp-content/uploads/2024/09/Motor-City-Aquarium-Society.jpg
END:VEVENT
BEGIN:VEVENT
DTSTART;TZID=America/Detroit:20261213T103000
DTEND;TZID=America/Detroit:20261213T123000
DTSTAMP:20260421T041945
CREATED:20240904T230336Z
LAST-MODIFIED:20260111T222932Z
UID:291-1797157800-1797165000@windsoraquariumsociety.ca
SUMMARY:Windsor Aquarium Society Christmas Raffle
DESCRIPTION:The annual Giant Christmas Raffle/Breakfast Buffet for Members only! No bowl show or speakers due to the event. This year we have another wonderful plant order from Aquaflora Canada (plus anything that others bring in)\, livestock\, decor\, equipment and much more. See everyone on the 13th!
URL:https://windsoraquariumsociety.ca/event/windsor-aquarium-society-christmas-raffle/
ATTACH;FMTTYPE=image/jpeg:https://windsoraquariumsociety.ca/wp-content/uploads/2024/08/xmas-raffle.jpg
END:VEVENT
END:VCALENDAR